BEGIN:VCALENDAR
VERSION:2.0
BEGIN:VEVENT
DTSTART;TZID=Europe/Stockholm:20250119T170000
DTEND;TZID=Europe/Stockholm:20250119T180000
DTSTAMP:20260420T072205
DESCRIPTION:Välkommen att fira gudstjänst med oss!
Idag har vi barn från lördagens barnkördag som medverkar. 
Enkel kvällsmat efteråt.
SEQUENCE:0
SUMMARY:Gudstjänst för alla åldrar
UID:5375@lawebb.se
END:VEVENT
END:VCALENDAR