BEGIN:VCALENDAR
VERSION:2.0
BEGIN:VEVENT
DTSTART;TZID=Europe/Stockholm:20231210T100000
DTEND;TZID=Europe/Stockholm:20231210T110000
DTSTAMP:20260419T184752
DESCRIPTION:Vi åker tillsammans till Gullbrannakyrkan på gudstjänst. Vill du samåka, kontakta Sara.
SEQUENCE:0
SUMMARY:Gudstjänst i Gullbranna
UID:6894@lawebb.se
END:VEVENT
END:VCALENDAR