BEGIN:VCALENDAR
VERSION:2.0
BEGIN:VEVENT
DTSTART;TZID=Europe/Stockholm:20231112T100000
DTEND;TZID=Europe/Stockholm:20231112T110000
DTSTAMP:20260419T201248
DESCRIPTION:Vi åker tillsammans till Gullbrannakyrkan på gudstjänst. Vill du samåka, kontakta Sara.
SEQUENCE:0
SUMMARY:Gudstjänst i Gullbranna
UID:5945@lawebb.se
END:VEVENT
END:VCALENDAR