BEGIN:VCALENDAR
VERSION:2.0
BEGIN:VEVENT
DTSTART;TZID=Europe/Stockholm:20231015T100000
DTEND;TZID=Europe/Stockholm:20231015T110000
DTSTAMP:20260419T214705
DESCRIPTION:Vi åker tillsammans till Gullbrannakyrkan på gudstjänst. Vill du samåka, kontakta Sara.
SEQUENCE:0
SUMMARY:Gudstjänst i Gullbranna
UID:5782@lawebb.se
END:VEVENT
END:VCALENDAR