BEGIN:VCALENDAR
VERSION:2.0
BEGIN:VEVENT
DTSTART;TZID=Europe/Stockholm:20230128T100000
DTEND;TZID=Europe/Stockholm:20230128T110000
DTSTAMP:20260421T065031
DESCRIPTION:Välkommen till vårt café. 
Öppet 10-14
SEQUENCE:0
SUMMARY:Kaffe & Böner
UID:9297@lawebb.se
END:VEVENT
END:VCALENDAR