BEGIN:VCALENDAR
VERSION:2.0
BEGIN:VEVENT
DTSTART;TZID=Europe/Stockholm:20230121T100000
DTEND;TZID=Europe/Stockholm:20230121T110000
DTSTAMP:20260421T065449
DESCRIPTION:Välkommen till vårt café. 
Öppet 10-14
SEQUENCE:0
SUMMARY:Kaffe & Böner
UID:2856@lawebb.se
END:VEVENT
END:VCALENDAR