BEGIN:VCALENDAR
VERSION:2.0
BEGIN:VEVENT
DTSTART;TZID=Europe/Stockholm:20230114T100000
DTEND;TZID=Europe/Stockholm:20230114T110000
DTSTAMP:20260421T065255
DESCRIPTION:Välkommen till vårt café. 
Öppet 10-14
SEQUENCE:0
SUMMARY:Kaffe & Böner
UID:4538@lawebb.se
END:VEVENT
END:VCALENDAR