BEGIN:VCALENDAR
VERSION:2.0
BEGIN:VEVENT
DTSTART;TZID=Europe/Stockholm:20220619T170000
DTEND;TZID=Europe/Stockholm:20220619T180000
DTSTAMP:20260420T191219
DESCRIPTION:
SEQUENCE:0
SUMMARY:Hemgrupper
UID:6345@lawebb.se
END:VEVENT
END:VCALENDAR