BEGIN:VCALENDAR
VERSION:2.0
BEGIN:VEVENT
DTSTART;TZID=Europe/Stockholm:20220605T170000
DTEND;TZID=Europe/Stockholm:20220605T180000
DTSTAMP:20260420T191025
DESCRIPTION:
SEQUENCE:0
SUMMARY:Hemgrupper
UID:2946@lawebb.se
END:VEVENT
END:VCALENDAR