BEGIN:VCALENDAR
VERSION:2.0
BEGIN:VEVENT
DTSTART;TZID=Europe/Stockholm:20220424T170000
DTEND;TZID=Europe/Stockholm:20220424T180000
DTSTAMP:20260420T155242
DESCRIPTION:
SEQUENCE:0
SUMMARY:Hemgrupper
UID:3365@lawebb.se
END:VEVENT
END:VCALENDAR