BEGIN:VCALENDAR
VERSION:2.0
BEGIN:VEVENT
DTSTART;TZID=Europe/Stockholm:20220313T170000
DTEND;TZID=Europe/Stockholm:20220313T180000
DTSTAMP:20260420T142848
DESCRIPTION:
SEQUENCE:0
SUMMARY:Hemgrupper
UID:9422@lawebb.se
END:VEVENT
END:VCALENDAR