BEGIN:VCALENDAR
VERSION:2.0
BEGIN:VEVENT
DTSTART;TZID=Europe/Stockholm:20220213T170000
DTEND;TZID=Europe/Stockholm:20220213T180000
DTSTAMP:20260420T130724
DESCRIPTION:
SEQUENCE:0
SUMMARY:Hemgrupper
UID:7575@lawebb.se
END:VEVENT
END:VCALENDAR