BEGIN:VCALENDAR
VERSION:2.0
BEGIN:VEVENT
DTSTART;TZID=Europe/Stockholm:20220130T170000
DTEND;TZID=Europe/Stockholm:20220130T180000
DTSTAMP:20260420T113727
DESCRIPTION:
SEQUENCE:0
SUMMARY:Hemgrupper
UID:8454@lawebb.se
END:VEVENT
END:VCALENDAR