BEGIN:VCALENDAR
VERSION:2.0
BEGIN:VEVENT
DTSTART;TZID=Europe/Stockholm:20220116T170000
DTEND;TZID=Europe/Stockholm:20220116T180000
DTSTAMP:20260420T114338
DESCRIPTION:
SEQUENCE:0
SUMMARY:Hemgrupper
UID:2769@lawebb.se
END:VEVENT
END:VCALENDAR